Workbook

Sheet Tabelle1
B1: Termék-típus | C1: Termék neve | D1: ISIN | E1: Termékcsalád | F1: Ország | G1: Téma | H1: Xetra szimbólum | I1: Reuters kód | J1: Bloomberg ticker | K1: Kezelési díj (%) | L1: Folyamatos költségek | M1: Nyereség felhasználása | N1: Replikációs módszer | O1: Alap devizája | P1: Kereskedési deviza | Q1: Min. kereskedési egység | R1: Max. spread | S1: iNAV (Reuters) | T1: iNAV (Bloomberg) | U1: Benchmark | V1: Kibocsátó honlapja
A2: 1 | B2: Active ETF | C2: PIMCO Euro Short Maturity UCITS ETF | D2: IE00B5ZR2157 | E2: PIMCO | F2: {=INDEX(Munka1!$A$2:$A$45, MATCH(1,COUNTIF(C2,"*"&Munka1!$A$2:$A$45&"*"),0), 1)} | G2: {=INDEX(Munka1!$B$2:$B$45, MATCH(1,COUNTIF(C2,"*"&Munka1!$B$2:$B$45&"*"),0), 1)} | H2: PJS1 | I2: PJS1.DE | J2: PJS1 GY | L2: 0.0035 | M2: Distributing | N2: Full Replication | O2: EUR | P2: EUR | Q2: 100000 EUR | R2: 0.01 | S2: PJS1iv.OQ | T2: PJS1IN | V2: www.pimco.de/de-de/investments/etfs
A3: 2 | B3: Active ETF | C3: Ossiam Europe ESG Machine Learning UCITS ETF - 1C (EUR) | D3: LU0599612842 | E3: Ossiam | F3: {=INDEX(Munka1!$A$2:$A$45, MATCH(1,COUNTIF(C3,"*"&Munka1!$A$2:$A$45&"*"),0), 1)} -> Europe | G3: {=INDEX(Munka1!$B$2:$B$45, MATCH(1,COUNTIF(C3,"*"&Munka1!$B$2:$B$45&"*"),0), 1)} -> ESG | H3: OSX4 | I3: OSX4.DE | J3: OSX4 GY | L3: 0.0065 | M3: Accumulating | N3: Swap-based | O3: EUR | P3: EUR | Q3: 200000 EUR | R3: 0.01 | S3: OSX4EURINAV=SOLA | T3: OSX4EUIV | V3: www.ossiam.com
A4: 3 | B4: Active ETF | C4: PIMCO Covered Bond UCITS ETF | D4: IE00BF8HV717 | E4: PIMCO | F4: {=INDEX(Munka1!$A$2:$A$45, MATCH(1,COUNTIF(C4,"*"&Munka1!$A$2:$A$45&"*"),0), 1)} | G4: {=INDEX(Munka1!$B$2:$B$45, MATCH(1,COUNTIF(C4,"*"&Munka1!$B$2:$B$45&"*"),0), 1)} -> bond | H4: COVR | I4: COVR.DE | J4: COVR GY | L4: 0.0043 | M4: Distributing | N4: Full Replication | O4: EUR | P4: EUR | Q4: 100000 EUR | R4: 0.01 | S4: INCOVRiv.OQ | T4: INCOVR | V4: www.pimco.de/de-de/investments/etfs
A5: 4 | B5: Active ETF | C5: PIMCO Euro Low Duration Corporate Bond UCITS ETF | D5: IE00BP9F2J32 | E5: PIMCO | F5: {=INDEX(Munka1!$A$2:$A$45, MATCH(1,COUNTIF(C5,"*"&Munka1!$A$2:$A$45&"*"),0), 1)} | G5: {=INDEX(Munka1!$B$2:$B$45, MATCH(1,COUNTIF(C5,"*"&Munka1!$B$2:$B$45&"*"),0), 1)} -> bond | H5: LDCE | I5: LDCE.DE | J5: LDCE GY | L5: 0.0049 | M5: Distributing | N5: Full Replication | O5: EUR | P5: EUR | Q5: 50000 EUR | R5: 0.01 | S5: INLDCEiv.OQ | T5: INLDCE | V5: www.pimco.de/de-de/investments/etfs
A6: 5 | B6: Active ETF | C6: PIMCO Euro Short Maturity UCITS ETF EUR ACC | D6: IE00BVZ6SP04 | E6: PIMCO | F6: {=INDEX(Munka1!$A$2:$A$45, MATCH(1,COUNTIF(C6,"*"&Munka1!$A$2:$A$45&"*"),0), 1)} | G6: {=INDEX(Munka1!$B$2:$B$45, MATCH(1,COUNTIF(C6,"*"&Munka1!$B$2:$B$45&"*"),0), 1)} | H6: PJSR | I6: PJSR.DE | J6: PJSR GY | L6: 0.0035 | M6: Accumulating | N6: Full Replication | O6: EUR | P6: EUR | Q6: 100000 EUR | R6: 0.01 | S6: F701EURINAV=SOLA | T6: INPJSR | V6: www.pimco.de/de-de/investments/etfs
A7: 6 | B7: Active ETF | C7: Lyxor Portfolio Strategy UCITS ETF | D7: DE000ETF7011 | E7: Amundi | F7: {=INDEX(Munka1!$A$2:$A$45, MATCH(1,COUNTIF(C7,"*"&Munka1!$A$2:$A$45&"*"),0), 1)} | G7: {=INDEX(Munka1!$B$2:$B$45, MATCH(1,COUNTIF(C7,"*"&Munka1!$B$2:$B$45&"*"),0), 1)} | H7: F701 | I7: F701.DE | J7: F701 GY | L7: 0.0045 | M7: Distributing | N7: Full Replication | O7: EUR | P7: EUR | Q7: 500 shares | R7: 0.02 | S7: JPSTEUiv.P | T7: F701EUIV | V7: www.lyxoretf.de
A8: 7 | B8: Active ETF | C8: JPM USD Ultra-Short Income UCITS ETF | D8: IE00BDFC6Q91 | E8: J.P. Morgan ETF | F8: {=INDEX(Munka1!$A$2:$A$45, MATCH(1,COUNTIF(C8,"*"&Munka1!$A$2:$A$45&"*"),0), 1)} | G8: {=INDEX(Munka1!$B$2:$B$45, MATCH(1,COUNTIF(C8,"*"&Munka1!$B$2:$B$45&"*"),0), 1)} | H8: JPPS | I8: JPPS.DE | J8: JPPS GY | L8: 0.0018 | M8: Distributing | N8: Full Replication | O8: USD | P8: EUR | Q8: 50000 EUR | R8: 0.03 | S8: F702EURINAV=SOLA | T8: JPSTEUIV | V8: www.jpmorganassetmanagement.ie
A9: 8 | B9: Active ETF | C9: Lyxor Portfolio Strategy Defensive UCITS ETF | D9: DE000ETF7029 | E9: Amundi | F9: {=INDEX(Munka1!$A$2:$A$45, MATCH(1,COUNTIF(C9,"*"&Munka1!$A$2:$A$45&"*"),0), 1)} | G9: {=INDEX(Munka1!$B$2:$B$45, MATCH(1,COUNTIF(C9,"*"&Munka1!$B$2:$B$45&"*"),0), 1)} | H9: F702 | I9: F702.DE | J9: F702 GY | L9: 0.004 | M9: Distributing | N9: Full Replication | O9: EUR | P9: EUR | Q9: 50000 EUR | R9: 0.02 | S9: F703EURINAV=SOLA | T9: F702EUIV | V9: www.lyxoretf.de
A10: 9 | B10: Active ETF | C10: Lyxor Portfolio Strategy Offensive UCITS ETF | D10: DE000ETF7037 | E10: Amundi | F10: {=INDEX(Munka1!$A$2:$A$45, MATCH(1,COUNTIF(C10,"*"&Munka1!$A$2:$A$45&"*"),0), 1)} | G10: {=INDEX(Munka1!$B$2:$B$45, MATCH(1,COUNTIF(C10,"*"&Munka1!$B$2:$B$45&"*"),0), 1)} | H10: F703 | I10: F703.DE | J10: F703 GY | L10: 0.0052 | M10: Distributing | N10: Full Replication | O10: EUR | P10: EUR | Q10: 50000 EUR | R10: 0.02 | S10: HWWDEUiv.P | T10: F703EUIV | V10: www.lyxoretf.de
A11: 10 | B11: Active ETF | C11: HSBC Multi-Factor Worldwide Equity UCITS ETF | D11: IE00BKZGB098 | E11: HSBC ETF | F11: {=INDEX(Munka1!$A$2:$A$45, MATCH(1,COUNTIF(C11,"*"&Munka1!$A$2:$A$45&"*"),0), 1)} -> world | G11: {=INDEX(Munka1!$B$2:$B$45, MATCH(1,COUNTIF(C11,"*"&Munka1!$B$2:$B$45&"*"),0), 1)} | H11: H41J | I11: H41J.DE | J11: H41J GY | L11: 0.0025 | M11: Distributing | N11: Full Replication | O11: USD | P11: EUR | Q11: 100000 EUR | R11: 0.01 | S11: H41JEURINAV=SOLA | T11: H41JEUIV | V11: www.etf.hsbc.com
A12: 11 | B12: Active ETF | C12: Ossiam ESG Low Carbon Shiller Barclays CAPE US Sector UCITS ETF - 1A (EUR) | D12: IE00BF92LV92 | E12: Ossiam | F12: {=INDEX(Munka1!$A$2:$A$45, MATCH(1,COUNTIF(C12,"*"&Munka1!$A$2:$A$45&"*"),0), 1)} | G12: {=INDEX(Munka1!$B$2:$B$45, MATCH(1,COUNTIF(C12,"*"&Munka1!$B$2:$B$45&"*"),0), 1)} -> ESG | H12: 5HEE | I12: 5HEE.DE | J12: 5HEE GY | L12: 0.0075 | M12: Accumulating | N12: Optimised | O12: EUR | P12: EUR | Q12: 100000 EUR | R12: 0.01 | S12: 5HEDINAV=SOLA | T12: 5HEEIV | V12: www.ossiam.com
A13: 12 | B13: Active ETF | C13: Ossiam ESG Low Carbon Shiller Barclays CAPE US Sector UCITS ETF - 1A (USD) | D13: IE00BF92LR56 | E13: Ossiam | F13: {=INDEX(Munka1!$A$2:$A$45, MATCH(1,COUNTIF(C13,"*"&Munka1!$A$2:$A$45&"*"),0), 1)} | G13: {=INDEX(Munka1!$B$2:$B$45, MATCH(1,COUNTIF(C13,"*"&Munka1!$B$2:$B$45&"*"),0), 1)} -> ESG | H13: 5HED | I13: 5HED.DE | J13: 5HED GY | L13: 0.0075 | M13: Accumulating | N13: Optimised | O13: USD | P13: USD | Q13: 100000 USD | R13: 0.01 | S13: JESTEUiv.P | T13: 5HEDIV | V13: www.ossiam.com
... A32: 31 | B32: Active ETF | C32: Fidelity Sustainable Research Enhanced Europe Equity UCITS ETF - Acc | D32: IE00BKSBGT50 | E32: Fidelity ETF | F32: {=INDEX(Munka1!$A$2:$A$45, MATCH(1,COUNTIF(C32,"*"&Munka1!$A$2:$A$45&"*"),0), 1)} -> Europe | G32: {=INDEX(Munka1!$B$2:$B$45, MATCH(1,COUNTIF(C32,"*"&Munka1!$B$2:$B$45&"*"),0), 1)} | H32: FEUR | I32: FEUR.DE | J32: FEUR GY | L32: 0.003 | M32: Accumulating | N32: Optimised | O32: EUR | P32: EUR | Q32: 100000 EUR | R32: 0.015 | S32: FGLREURINAV=SOLA | T32: FEUEURIV | V32: www.fidelity-etfs.com
A33: 32 | B33: Active ETF | C33: Fidelity Sustainable Research Enhanced Global Equity UCITS ETF - Acc | D33: IE00BKSBGV72 | E33: Fidelity ETF | F33: {=INDEX(Munka1!$A$2:$A$45, MATCH(1,COUNTIF(C33,"*"&Munka1!$A$2:$A$45&"*"),0), 1)} | G33: {=INDEX(Munka1!$B$2:$B$45, MATCH(1,COUNTIF(C33,"*"&Munka1!$B$2:$B$45&"*"),0), 1)} | H33: FGLR | I33: FGLR.DE | J33: FGLR GY | L33: 0.0035 | M33: Accumulating | N33: Optimised | O33: USD | P33: EUR | Q33: 100000 EUR | R33: 0.015 | T33: FGLRIV | V33: www.fidelity-etfs.com
A34: 33 | B34: Active ETF | C34: BlackRock ESG Multi-Asset Conservative Portfolio UCITS ETF EUR (Acc) | D34: IE00BLP53M98 | E34: iShares | F34: {=INDEX(Munka1!$A$2:$A$45, MATCH(1,COUNTIF(C34,"*"&Munka1!$A$2:$A$45&"*"),0), 1)} | G34: {=INDEX(Munka1!$B$2:$B$45, MATCH(1,COUNTIF(C34,"*"&Munka1!$B$2:$B$45&"*"),0), 1)} -> ESG | H34: MACV | I34: MACV.DE | J34: MACV GY | L34: 0.0025 | M34: Accumulating | N34: Full Replication | O34: EUR | P34: EUR | Q34: 50000 EUR | R34: 0.03 | S34: 4IE7EUR=INAV | T34: INAVMAC1 | V34: www.ishares.com
A35: 34 | B35: Active ETF | C35: BlackRock ESG Multi-Asset Moderate Portfolio UCITS ETF EUR (Acc) | D35: IE00BLLZQS08 | E35: iShares | F35: {=INDEX(Munka1!$A$2:$A$45, MATCH(1,COUNTIF(C35,"*"&Munka1!$A$2:$A$45&"*"),0), 1)} | G35: {=INDEX(Munka1!$B$2:$B$45, MATCH(1,COUNTIF(C35,"*"&Munka1!$B$2:$B$45&"*"),0), 1)} -> ESG | H35: MODR | I35: MODR.DE | J35: MODR GY | L35: 0.0025 | M35: Accumulating | N35: Full Replication | O35: EUR | P35: EUR | Q35: 50000 EUR | R35: 0.03 | S35: 4IZHEUR=INAV | T35: INAVMOD1 | V35: www.ishares.com
A36: 35 | B36: Active ETF | C36: BlackRock ESG Multi-Asset Growth Portfolio UCITS ETF EUR (Acc) | D36: IE00BLLZQ805 | E36: iShares | F36: {=INDEX(Munka1!$A$2:$A$45, MATCH(1,COUNTIF(C36,"*"&Munka1!$A$2:$A$45&"*"),0), 1)} | G36: {=INDEX(Munka1!$B$2:$B$45, MATCH(1,COUNTIF(C36,"*"&Munka1!$B$2:$B$45&"*"),0), 1)} -> ESG | H36: MAGR | I36: MAGR.DE | J36: MAGR GY | L36: 0.0025 | M36: Accumulating | N36: Full Replication | O36: EUR | P36: EUR | Q36: 50000 EUR | R36: 0.03 | S36: 4IZTEUR=INAV | T36: INAVMAG1 | V36: www.ishares.com
A37: 36 | B37: Active ETF | C37: Lyxor Smart Overnight Return - UCITS ETF D-EUR | D37: LU2082999306 | E37: Amundi | F37: {=INDEX(Munka1!$A$2:$A$45, MATCH(1,COUNTIF(C37,"*"&Munka1!$A$2:$A$45&"*"),0), 1)} | G37: {=INDEX(Munka1!$B$2:$B$45, MATCH(1,COUNTIF(C37,"*"&Munka1!$B$2:$B$45&"*"),0), 1)} | H37: EGV2 | I37: EGV2.DE | J37: EGV2 GY | L37: 0.0005 | M37: Distributing | N37: Swap-based | O37: EUR | P37: EUR | Q37: 100000 EUR | R37: 0.015 | S37: ASWEEURINAV=SOLA | T37: CNAVEONI | V37: www.lyxoretf.de
A38: 37 | B38: Active ETF | C38: Saturna Al-Kawthar Global Focused Equity UCITS ETF - Acc | D38: IE00BMYMHS24 | E38: HANetf | F38: {=INDEX(Munka1!$A$2:$A$45, MATCH(1,COUNTIF(C38,"*"&Munka1!$A$2:$A$45&"*"),0), 1)} | G38: {=INDEX(Munka1!$B$2:$B$45, MATCH(1,COUNTIF(C38,"*"&Munka1!$B$2:$B$45&"*"),0), 1)} | H38: ASWE | I38: ASWE.DE | J38: ASWE GY | L38: 0.0075 | M38: Accumulating | N38: Full Replication | O38: USD | P38: EUR | Q38: 50000 EUR | R38: 0.05 | S38: FYEREURINAV=SOLA | T38: ASWEEUIV | V38: www.hanetf.com
A39: 38 | B39: Active ETF | C39: Fidelity Sustainable Research Enhanced Emerging Markets Equity UCITS ETF - Acc | D39: IE00BLRPN388 | E39: Fidelity ETF | F39: {=INDEX(Munka1!$A$2:$A$45, MATCH(1,COUNTIF(C39,"*"&Munka1!$A$2:$A$45&"*"),0), 1)} | G39: {=INDEX(Munka1!$B$2:$B$45, MATCH(1,COUNTIF(C39,"*"&Munka1!$B$2:$B$45&"*"),0), 1)} -> Emerging Markets | H39: FYER | I39: FYER DE | J39: FYER GY | L39: 0.005 | M39: Accumulating | N39: Optimised | O39: USD | P39: EUR | Q39: 100000 EUR | R39: 0.015 | S39: IV20AEUR | T39: FYEREUIV | V39: www.fidelity-etfs.com
A40: 39 | B40: Active ETF | C40: Vanguard LifeStrategy 20% Equity UCITS ETF (EUR) - Acc | D40: IE00BMVB5K07 | E40: Vanguard | F40: {=INDEX(Munka1!$A$2:$A$45, MATCH(1,COUNTIF(C40,"*"&Munka1!$A$2:$A$45&"*"),0), 1)} | G40: {=INDEX(Munka1!$B$2:$B$45, MATCH(1,COUNTIF(C40,"*"&Munka1!$B$2:$B$45&"*"),0), 1)} | H40: V20A | I40: V20A.DE | J40: V20A GY | L40: 0.0025 | M40: Accumulating | N40: Full Replication | O40: EUR | P40: EUR | Q40: 50000 EUR | R40: 0.03 | S40: IV20DEUR | V40: www.de.vanguard
A41: 40 | B41: Active ETF | C41: Vanguard LifeStrategy 20% Equity UCITS ETF (EUR) - Dist | D41: IE00BMVB5L14 | E41: Vanguard | F41: {=INDEX(Munka1!$A$2:$A$45, MATCH(1,COUNTIF(C41,"*"&Munka1!$A$2:$A$45&"*"),0), 1)} | G41: {=INDEX(Munka1!$B$2:$B$45, MATCH(1,COUNTIF(C41,"*"&Munka1!$B$2:$B$45&"*"),0), 1)} | H41: V20D | I41: V20D.de | J41: V20D GY | L41: 0.0025 | M41: Distributing | N41: Full Replication | O41: EUR | P41: EUR | Q41: 50000 EUR | R41: 0.03 | S41: IV40AEUR | V41: www.de.vanguard
A42: 41 | B42: Active ETF | C42: Vanguard LifeStrategy 40% Equity UCITS ETF (EUR) - Acc | D42: IE00BMVB5M21 | E42: Vanguard | F42: {=INDEX(Munka1!$A$2:$A$45, MATCH(1,COUNTIF(C42,"*"&Munka1!$A$2:$A$45&"*"),0), 1)} | G42: {=INDEX(Munka1!$B$2:$B$45, MATCH(1,COUNTIF(C42,"*"&Munka1!$B$2:$B$45&"*"),0), 1)} | H42: V40A | I42: V40A.DE | J42: V40A GY | L42: 0.0025 | M42: Accumulating | N42: Full Replication | O42: EUR | P42: EUR | Q42: 50000 EUR | R42: 0.03 | S42: IV40DEUR | V42: www.de.vanguard
A43: 42 | B43: Active ETF | C43: Vanguard LifeStrategy 40% Equity UCITS ETF (EUR) - Dist | D43: IE00BMVB5N38 | E43: Vanguard | F43: {=INDEX(Munka1!$A$2:$A$45, MATCH(1,COUNTIF(C43,"*"&Munka1!$A$2:$A$45&"*"),0), 1)} | G43: {=INDEX(Munka1!$B$2:$B$45, MATCH(1,COUNTIF(C43,"*"&Munka1!$B$2:$B$45&"*"),0), 1)} | H43: V40D | I43: V40D.DE | J43: V40D GY | L43: 0.0025 | M43: Distributing | N43: Full Replication | O43: EUR | P43: EUR | Q43: 50000 EUR | R43: 0.03 | S43: IV60AEUR | V43: www.de.vanguard
A44: 43 | B44: Active ETF | C44: Vanguard LifeStrategy 60% Equity UCITS ETF (EUR) - Acc | D44: IE00BMVB5P51 | E44: Vanguard | F44: {=INDEX(Munka1!$A$2:$A$45, MATCH(1,COUNTIF(C44,"*"&Munka1!$A$2:$A$45&"*"),0), 1)} | G44: {=INDEX(Munka1!$B$2:$B$45, MATCH(1,COUNTIF(C44,"*"&Munka1!$B$2:$B$45&"*"),0), 1)} | H44: V60A | I44: V60A.DE | J44: V60A GY | L44: 0.0025 | M44: Accumulating | N44: Full Replication | O44: EUR | P44: EUR | Q44: 50000 EUR | R44: 0.03 | S44: IV60DEUR | V44: www.de.vanguard
A45: 44 | B45: Active ETF | C45: Vanguard LifeStrategy 60% Equity UCITS ETF (EUR) - Dist | D45: IE00BMVB5Q68 | E45: Vanguard | F45: {=INDEX(Munka1!$A$2:$A$45, MATCH(1,COUNTIF(C45,"*"&Munka1!$A$2:$A$45&"*"),0), 1)} | G45: {=INDEX(Munka1!$B$2:$B$45, MATCH(1,COUNTIF(C45,"*"&Munka1!$B$2:$B$45&"*"),0), 1)} | H45: V60D | I45: V60D.DE | J45: V60D GY | L45: 0.0025 | M45: Distributing | N45: Full Replication | O45: EUR | P45: EUR | Q45: 50000 EUR | R45: 0.03 | S45: IV80AEUR | V45: www.de.vanguard
A46: 45 | B46: Active ETF | C46: Vanguard LifeStrategy 80% Equity UCITS ETF (EUR) - Acc | D46: IE00BMVB5R75 | E46: Vanguard | F46: {=INDEX(Munka1!$A$2:$A$45, MATCH(1,COUNTIF(C46,"*"&Munka1!$A$2:$A$45&"*"),0), 1)} | G46: {=INDEX(Munka1!$B$2:$B$45, MATCH(1,COUNTIF(C46,"*"&Munka1!$B$2:$B$45&"*"),0), 1)} | H46: V80A | I46: V80A.DE | J46: V80A GY | L46: 0.0025 | M46: Accumulating | N46: Full Replication | O46: EUR | P46: EUR | Q46: 50000 EUR | R46: 0.03 | S46: IV80DEUR | V46: www.de.vanguard
A47: 46 | B47: Active ETF | C47: Vanguard LifeStrategy 80% Equity UCITS ETF (EUR) - Dist | D47: IE00BMVB5S82 | E47: Vanguard | F47: {=INDEX(Munka1!$A$2:$A$45, MATCH(1,COUNTIF(C47,"*"&Munka1!$A$2:$A$45&"*"),0), 1)} | G47: {=INDEX(Munka1!$B$2:$B$45, MATCH(1,COUNTIF(C47,"*"&Munka1!$B$2:$B$45&"*"),0), 1)} | H47: V80D | I47: V80D.DE | J47: V80D GY | L47: 0.0025 | M47: Distributing | N47: Full Replication | O47: EUR | P47: EUR | Q47: 50000 EUR | R47: 0.03 | S47: FJPREEURINAV=SOLA | V47: www.de.vanguard
A48: 47 | B48: Active ETF | C48: Fidelity Sustainable Research Enhanced Japan Equity UCITS ETF | D48: IE00BNGFMX61 | E48: Fidelity ETF | F48: {=INDEX(Munka1!$A$2:$A$45, MATCH(1,COUNTIF(C48,"*"&Munka1!$A$2:$A$45&"*"),0), 1)} -> Japan | G48: {=INDEX(Munka1!$B$2:$B$45, MATCH(1,COUNTIF(C48,"*"&Munka1!$B$2:$B$45&"*"),0), 1)} | H48: FJPR | I48: FJPR.DE | J48: FJPR GY | L48: 0.003 | M48: Accumulating | N48: Optimised | O48: JPY | P48: EUR | Q48: 100000 EUR | R48: 0.015 | S48: FEPXEEURINAV=SOLA | T48: FJPREIV | V48: www.fidelity-etfs.com
A49: 48 | B49: Active ETF | C49: Fidelity Sustainable Research Enhanced Pacific ex-Japan Equity UCITS ETF | D49: IE00BNGFMY78 | E49: Fidelity ETF | F49: {=INDEX(Munka1!$A$2:$A$45, MATCH(1,COUNTIF(C49,"*"&Munka1!$A$2:$A$45&"*"),0), 1)} -> Japan | G49: {=INDEX(Munka1!$B$2:$B$45, MATCH(1,COUNTIF(C49,"*"&Munka1!$B$2:$B$45&"*"),0), 1)} | H49: FEPX | I49: FEPX.DE | J49: FEPX GY | L49: 0.003 | M49: Accumulating | N49: Optimised | O49: USD | P49: EUR | Q49: 100000 EUR | R49: 0.015 | S49: F4DEEURINAV=SOLA | T49: FEPXEIV | V49: www.fidelity-etfs.com
A50: 49 | B50: Active ETF | C50: Ossiam Food for Biodiversity UCITS ETF - 1A (EUR)0 | D50: IE00BN0YSK89 | E50: Ossiam | F50: {=INDEX(Munka1!$A$2:$A$45, MATCH(1,COUNTIF(C50,"*"&Munka1!$A$2:$A$45&"*"),0), 1)} | G50: {=INDEX(Munka1!$B$2:$B$45, MATCH(1,COUNTIF(C50,"*"&Munka1!$B$2:$B$45&"*"),0), 1)} | H50: F4DE | I50: F4DE.DE | J50: F4DE GY | L50: 0.0075 | M50: Accumulating | N50: Full Replication | O50: EUR | P50: EUR | Q50: 100000 EUR | R50: 0.01 | S50: F4DUUSDINAV=SOLA | T50: F4DEEUIV | V50: www.ossiam.com
A51: 50 | B51: Active ETF | C51: Ossiam Food for Biodiversity UCITS ETF - 1A (USD) | D51: IE00BN0YSJ74 | E51: Ossiam | F51: {=INDEX(Munka1!$A$2:$A$45, MATCH(1,COUNTIF(C51,"*"&Munka1!$A$2:$A$45&"*"),0), 1)} | G51: {=INDEX(Munka1!$B$2:$B$45, MATCH(1,COUNTIF(C51,"*"&Munka1!$B$2:$B$45&"*"),0), 1)} | H51: F4DU | I51: F4DU.DE | J51: F4DU GY | L51: 0.0075 | M51: Accumulating | N51: Full Replication | O51: USD | P51: USD | Q51: 100000 EUR | R51: 0.01 | S51: FSCMEURINAV=SOLA | T51: F4DUUSIV | V51: www.ossiam.com
A52: 51 | B52: Active ETF | C52: Fidelity Sustainable Global Corporate Bond Paris-Aligned Multifactor UCITS ETF | D52: IE00BM9GRM34 | E52: Fidelity ETF | F52: {=INDEX(Munka1!$A$2:$A$45, MATCH(1,COUNTIF(C52,"*"&Munka1!$A$2:$A$45&"*"),0), 1)} | G52: {=INDEX(Munka1!$B$2:$B$45, MATCH(1,COUNTIF(C52,"*"&Munka1!$B$2:$B$45&"*"),0), 1)} -> bond | H52: FSCM | I52: FSCM.DE | J52: FSCM GY | L52: 0.0025 | M52: Distributing | N52: Optimised | O52: USD | P52: EUR | Q52: 83800 EUR | R52: 0.015 | S52: FESDEURINAV=SOLA | T52: FSCMEUIV | V52: www.fidelity-etfs.com
A53: 52 | B53: Active ETF | C53: Fidelity Sustainable USD EM Bond UCITS ETF - Inc | D53: IE00BM9GRP64 | E53: Fidelity ETF | F53: {=INDEX(Munka1!$A$2:$A$45, MATCH(1,COUNTIF(C53,"*"&Munka1!$A$2:$A$45&"*"),0), 1)} | G53: {=INDEX(Munka1!$B$2:$B$45, MATCH(1,COUNTIF(C53,"*"&Munka1!$B$2:$B$45&"*"),0), 1)} -> bond | H53: FESD | I53: FESD.DE | J53: FESD GY | L53: 0.0045 | M53: Distributing | N53: Full Replication | O53: USD | P53: EUR | Q53: 83800 EUR | R53: 0.015 | S53: SESGEURINAV=SOLA | T53: FESDEUIV | V53: www.fidelity-etfs.com
A54: 53 | B54: Active ETF | C54: JPM Global Research Enhanced Index Equity (ESG) UCITS ETF - USD (dist) | D54: IE000HFXP0D2 | E54: J.P. Morgan ETF | F54: {=INDEX(Munka1!$A$2:$A$45, MATCH(1,COUNTIF(C54,"*"&Munka1!$A$2:$A$45&"*"),0), 1)} | G54: {=INDEX(Munka1!$B$2:$B$45, MATCH(1,COUNTIF(C54,"*"&Munka1!$B$2:$B$45&"*"),0), 1)} -> ESG | H54: JRGD | I54: JRGD.DE | J54: JRGD GY | L54: 0.0025 | M54: Distributing | N54: Full Replication | O54: USD | P54: EUR | Q54: 50000 EUR | R54: 0.015 | S54: JREDEUiv.P | T54: JRGDEUIV | V54: www.jpmorganassetmanagement.ie
A55: 54 | B55: Active ETF | C55: JPM Europe Research Enhanced Index Equity (ESG) UCITS ETF - EUR (dist) | D55: IE000WGK3YY5 | E55: J.P. Morgan ETF | F55: {=INDEX(Munka1!$A$2:$A$45, MATCH(1,COUNTIF(C55,"*"&Munka1!$A$2:$A$45&"*"),0), 1)} -> Europe | G55: {=INDEX(Munka1!$B$2:$B$45, MATCH(1,COUNTIF(C55,"*"&Munka1!$B$2:$B$45&"*"),0), 1)} -> ESG | H55: JRED | I55: JRED.DE | J55: JRED GY | L55: 0.0025 | M55: Distributing | N55: Full Replication | O55: EUR | P55: EUR | Q55: 50000 EUR | R55: 0.015 | T55: JREDEUIV | V55: www.jpmorganassetmanagement.ie
A56: 55 | B56: Active ETF | C56: VanEck Smart Home Active UCITS ETF | D56: IE000FN81QD2 | E56: VanEck | F56: {=INDEX(Munka1!$A$2:$A$45, MATCH(1,COUNTIF(C56,"*"&Munka1!$A$2:$A$45&"*"),0), 1)} | G56: {=INDEX(Munka1!$B$2:$B$45, MATCH(1,COUNTIF(C56,"*"&Munka1!$B$2:$B$45&"*"),0), 1)} | H56: VCAV | I56: VCAV.DE | J56: VCAV GY | L56: 0.0085 | M56: Accumulating | N56: Full Replication | O56: USD | P56: EUR | Q56: 50000 EUR | R56: 0.03 | S56: JRUEEUiv.P | T56: VCAVEUIV | V56: www.vaneck.com
A57: 56 | B57: Active ETF | C57: JPM USD Corporate Bond Research Enhanced Index (ESG) UCITS ETF | D57: IE0000J0F3C5 | E57: J.P. Morgan ETF | F57: {=INDEX(Munka1!$A$2:$A$45, MATCH(1,COUNTIF(C57,"*"&Munka1!$A$2:$A$45&"*"),0), 1)} | G57: {=INDEX(Munka1!$B$2:$B$45, MATCH(1,COUNTIF(C57,"*"&Munka1!$B$2:$B$45&"*"),0), 1)} -> ESG | H57: JRUE | I57: JRUE.DE | J57: JRUE GY | L57: 0.0019 | M57: Accumulating | N57: Full Replication | O57: EUR | P57: EUR | Q57: 50000 EUR | R57: 0.015 | S57: JRGEEUiv.P | T57: JRUEEUIV | V57: www.jpmorganassetmanagement.ie
A58: 57 | B58: Active ETF | C58: JPM Global Research Enhanced Index Equity (ESG) UCITS ETF - EUR Hedged (acc) | D58: IE0000UW95D6 | E58: J.P. Morgan ETF | F58: {=INDEX(Munka1!$A$2:$A$45, MATCH(1,COUNTIF(C58,"*"&Munka1!$A$2:$A$45&"*"),0), 1)} | G58: {=INDEX(Munka1!$B$2:$B$45, MATCH(1,COUNTIF(C58,"*"&Munka1!$B$2:$B$45&"*"),0), 1)} -> ESG | H58: JRGE | I58: JRGE.DE | J58: JRGE GY | L58: 0.0025 | M58: Accumulating | N58: Full Replication | O58: EUR | P58: EUR | Q58: 50000 EUR | R58: 0.015 | T58: JRGEEUIV | V58: www.jpmorganassetmanagement.ie
...

Sheet Munka1
A1: ország | B1: téma
A2: Europe | B2: ESG
A3: China | B3: Robotika
A4: India | B4: Nasdaq
A5: Usa | B5: bond
A6: world | B6: Climate
A7: Japan | B7: Economy
A8: Mexico | B8: Blockchain
A9: Australia | B9: Energiy
A10: Africa | B10: Government
A11: France | B11: Emerging Markets
A12: Poland | B12: Universal Select
... A15: Saud Arabia | B15: Industrials
B16: Information Technology
B17: Multi-Asset
B18: DAX
B19: Core
B20: MSCI
B21: Developed
B22: Treasury
B23: Corporate
B24: Reit
